BEGIN:VCALENDAR
VERSION:2.0
PRODID:-//Tampa Sister Cities - ECPv6.15.18//NONSGML v1.0//EN
CALSCALE:GREGORIAN
METHOD:PUBLISH
X-ORIGINAL-URL:https://tampasistercities.org
X-WR-CALDESC:Events for Tampa Sister Cities
REFRESH-INTERVAL;VALUE=DURATION:PT1H
X-Robots-Tag:noindex
X-PUBLISHED-TTL:PT1H
BEGIN:VTIMEZONE
TZID:America/New_York
BEGIN:DAYLIGHT
TZOFFSETFROM:-0500
TZOFFSETTO:-0400
TZNAME:EDT
DTSTART:20250309T070000
END:DAYLIGHT
BEGIN:STANDARD
TZOFFSETFROM:-0400
TZOFFSETTO:-0500
TZNAME:EST
DTSTART:20251102T060000
END:STANDARD
BEGIN:DAYLIGHT
TZOFFSETFROM:-0500
TZOFFSETTO:-0400
TZNAME:EDT
DTSTART:20260308T070000
END:DAYLIGHT
BEGIN:STANDARD
TZOFFSETFROM:-0400
TZOFFSETTO:-0500
TZNAME:EST
DTSTART:20261101T060000
END:STANDARD
BEGIN:DAYLIGHT
TZOFFSETFROM:-0500
TZOFFSETTO:-0400
TZNAME:EDT
DTSTART:20270314T070000
END:DAYLIGHT
BEGIN:STANDARD
TZOFFSETFROM:-0400
TZOFFSETTO:-0500
TZNAME:EST
DTSTART:20271107T060000
END:STANDARD
END:VTIMEZONE
BEGIN:VEVENT
DTSTART;TZID=America/New_York:20260325T180000
DTEND;TZID=America/New_York:20260325T180000
DTSTAMP:20260424T011201
CREATED:20260213T155740Z
LAST-MODIFIED:20260303T171757Z
UID:10000485-1774461600-1774461600@tampasistercities.org
SUMMARY:A Turkish Dinner
DESCRIPTION:
URL:https://tampasistercities.org/event/a-turkish-dinner/
LOCATION:Bayshore Mediterranean Grill\, 6102 S. MacDill Ave.\, Tampa\, 33611
ATTACH;FMTTYPE=image/jpeg:https://tampasistercities.org/wp-content/uploads/2023/01/AdobeStock_179676700-scaled.jpeg
ORGANIZER;CN="Tampa-Izmir Sister Cities":MAILTO:agoldberg@absolutemarketingsolutions.com
END:VEVENT
END:VCALENDAR